BEGIN:VCALENDAR
VERSION:2.0
PRODID:-//Canines For Disabled Kids - ECPv6.15.20//NONSGML v1.0//EN
CALSCALE:GREGORIAN
METHOD:PUBLISH
X-WR-CALNAME:Canines For Disabled Kids
X-ORIGINAL-URL:https://caninesforkids.org
X-WR-CALDESC:Events for Canines For Disabled Kids
REFRESH-INTERVAL;VALUE=DURATION:PT1H
X-Robots-Tag:noindex
X-PUBLISHED-TTL:PT1H
BEGIN:VTIMEZONE
TZID:America/New_York
BEGIN:DAYLIGHT
TZOFFSETFROM:-0500
TZOFFSETTO:-0400
TZNAME:EDT
DTSTART:20250309T070000
END:DAYLIGHT
BEGIN:STANDARD
TZOFFSETFROM:-0400
TZOFFSETTO:-0500
TZNAME:EST
DTSTART:20251102T060000
END:STANDARD
BEGIN:DAYLIGHT
TZOFFSETFROM:-0500
TZOFFSETTO:-0400
TZNAME:EDT
DTSTART:20260308T070000
END:DAYLIGHT
BEGIN:STANDARD
TZOFFSETFROM:-0400
TZOFFSETTO:-0500
TZNAME:EST
DTSTART:20261101T060000
END:STANDARD
BEGIN:DAYLIGHT
TZOFFSETFROM:-0500
TZOFFSETTO:-0400
TZNAME:EDT
DTSTART:20270314T070000
END:DAYLIGHT
BEGIN:STANDARD
TZOFFSETFROM:-0400
TZOFFSETTO:-0500
TZNAME:EST
DTSTART:20271107T060000
END:STANDARD
END:VTIMEZONE
BEGIN:VEVENT
DTSTART;TZID=America/New_York:20260501T080000
DTEND;TZID=America/New_York:20260503T170000
DTSTAMP:20260422T041951
CREATED:20260306T204512Z
LAST-MODIFIED:20260306T204853Z
UID:6156-1777622400-1777827600@caninesforkids.org
SUMMARY:New York Metro Abilities Expo
DESCRIPTION:CDK is proud to be a regular attendee at Abilities Expos around the country!  We present workshops and presentations about service dogs\, how they work\, the ways they are able to assist individuals\, and more! PS It’s free to attend!! \nAbilities International Accessibility Conference – 9:45 am -10:45 am \nFriday: 11:15am – 12pm \nSaturday: 4pm – 4:45pm \n  \nPlease join us at your closest Abilities Expo location to learn more and chat with a CDK representative!
URL:https://caninesforkids.org/event/new-york-metro-abilities-expo-2/
CATEGORIES:Booth,Lectures,Social
END:VEVENT
BEGIN:VEVENT
DTSTART;TZID=America/New_York:20260612T080000
DTEND;TZID=America/New_York:20260614T170000
DTSTAMP:20260422T041951
CREATED:20260306T204814Z
LAST-MODIFIED:20260306T204814Z
UID:6158-1781251200-1781456400@caninesforkids.org
SUMMARY:Chicago Abilities Expo
DESCRIPTION:CDK is proud to be a regular attendee at Abilities Expos around the country!  We present workshops and presentations about service dogs\, how they work\, the ways they are able to assist individuals\, and more! PS It’s free to attend!! \nAbilities International Accessibility Conference – Thursday 9:45am -10:45 am \nFriday: 12:45am – 1:30pm \nSaturday: 11:30am – 12:30pm \nSunday: 11:15am – 12pm \n  \nPlease join us at your closest Abilities Expo location to learn more and chat with a CDK representative!
URL:https://caninesforkids.org/event/chicago-abilities-expo-5/
CATEGORIES:Lectures,Social
END:VEVENT
END:VCALENDAR